0.15000000000000
0.00000000000000
0.00000000000000
-0.15000000000000
291750.07500000001164
4592999.92499999981374
