0.15000000000000
0.00000000000000
0.00000000000000
-0.15000000000000
291000.07500000001164
4596749.92499999981374
