0.15000000000000
0.00000000000000
0.00000000000000
-0.15000000000000
288000.07500000001164
4588499.92499999981374
