0.15000000000000
0.00000000000000
0.00000000000000
-0.15000000000000
286500.07500000001164
4589999.92499999981374
