0.15000000000000
0.00000000000000
0.00000000000000
-0.15000000000000
285750.07500000001164
4559999.92499999981374
