0.15000000000000
0.00000000000000
0.00000000000000
-0.15000000000000
284250.07500000001164
4565249.92499999981374
