0.15000000000000
0.00000000000000
0.00000000000000
-0.15000000000000
283500.07500000001164
4585499.92499999981374
