0.15000000000000
0.00000000000000
0.00000000000000
-0.15000000000000
282000.07500000001164
4582499.92499999981374
