0.15000000000000
0.00000000000000
0.00000000000000
-0.15000000000000
280500.07500000001164
4562999.92499999981374
