0.15000000000000
0.00000000000000
0.00000000000000
-0.15000000000000
274500.07500000001164
4583999.92499999981374
