0.15000000000000
0.00000000000000
0.00000000000000
-0.15000000000000
271500.07500000001164
4581749.92499999981374
