0.15000000000000
0.00000000000000
0.00000000000000
-0.15000000000000
767250.07499999995343
4585499.92499999981374
