0.15000000000000
0.00000000000000
0.00000000000000
-0.15000000000000
766500.07499999995343
4580249.92499999981374
