0.15000000000000
0.00000000000000
0.00000000000000
-0.15000000000000
419250.07500000001164
4634249.92499999981374
