0.15000000000000
0.00000000000000
0.00000000000000
-0.15000000000000
408750.07500000001164
4657499.92499999981374
