0.15000000000000
0.00000000000000
0.00000000000000
-0.15000000000000
407250.07500000001164
4620749.92499999981374
