0.15000000000000
0.00000000000000
0.00000000000000
-0.15000000000000
416250.07500000001164
4574249.92499999981374
