0.15000000000000
0.00000000000000
0.00000000000000
-0.15000000000000
415500.07500000001164
4568249.92499999981374
