0.15000000000000
0.00000000000000
0.00000000000000
-0.15000000000000
411000.07500000001164
4567499.92499999981374
