0.15000000000000
0.00000000000000
0.00000000000000
-0.15000000000000
409500.07500000001164
4571249.92499999981374
