0.15000000000000
0.00000000000000
0.00000000000000
-0.15000000000000
360000.07500000001164
4721249.92499999981374
