0.15000000000000
0.00000000000000
0.00000000000000
-0.15000000000000
351750.07500000001164
4731749.92499999981374
