0.15000000000000
0.00000000000000
0.00000000000000
-0.15000000000000
345750.07500000001164
4745249.92499999981374
