0.15000000000000
0.00000000000000
0.00000000000000
-0.15000000000000
343500.07500000001164
4713749.92499999981374
