0.15000000000000
0.00000000000000
0.00000000000000
-0.15000000000000
395250.07500000001164
4610999.92499999981374
