0.15000000000000
0.00000000000000
0.00000000000000
-0.15000000000000
390750.07500000001164
4618499.92499999981374
