0.15000000000000
0.00000000000000
0.00000000000000
-0.15000000000000
372750.07500000001164
4619249.92499999981374
