0.15000000000000
0.00000000000000
0.00000000000000
-0.15000000000000
371250.07500000001164
4613249.92499999981374
