0.15000000000000
0.00000000000000
0.00000000000000
-0.15000000000000
368250.07500000001164
4633499.92499999981374
