0.15000000000000
0.00000000000000
0.00000000000000
-0.14999999999993
360750.07500000001164
4627505.02499999944121
