0.15000000000000
0.00000000000000
0.00000000000000
-0.15000000000000
357000.07500000001164
4672499.92499999981374
