0.15000000000000
0.00000000000000
0.00000000000000
-0.15000000000000
356250.07500000001164
4648499.92499999981374
