0.15000000000000
0.00000000000000
0.00000000000000
-0.15000000000000
353250.07500000001164
4619999.92499999981374
