0.15000000000000
0.00000000000000
0.00000000000000
-0.14999999999993
352500.07500000001164
4626005.02499999944121
