0.15000000000000
0.00000000000000
0.00000000000000
-0.15000000000000
338250.07500000001164
4698749.92499999981374
