0.15000000000000
0.00000000000000
0.00000000000000
-0.15000000000000
333000.07500000001164
4685999.92499999981374
