0.15000000000000
0.00000000000000
0.00000000000000
-0.15000000000000
331500.07500000001164
4693499.92499999981374
