0.15000000000000
0.00000000000000
0.00000000000000
-0.15000000000000
330750.07500000001164
4686749.92499999981374
