0.15000000000000
0.00000000000000
0.00000000000000
-0.15000000000000
327750.07500000001164
4636499.92499999981374
