0.15000000000000
0.00000000000000
0.00000000000000
-0.15000000000000
324750.07500000001164
4628999.92499999981374
