0.15000000000000
0.00000000000000
0.00000000000000
-0.15000000000000
322500.07500000001164
4637249.92499999981374
