0.15000000000000
0.00000000000000
0.00000000000000
-0.15000000000000
321000.07500000001164
4629749.92499999981374
