0.15000000000000
0.00000000000000
0.00000000000000
-0.15000000000000
312750.07500000001164
4624499.92499999981374
