0.15000000000000
0.00000000000000
0.00000000000000
-0.15000000000000
399000.07500000001164
4570499.92499999981374
