0.15000000000000
0.00000000000000
0.00000000000000
-0.15000000000000
374250.07500000001164
4583249.92499999981374
