0.15000000000000
0.00000000000000
0.00000000000000
-0.15000000000000
369000.07500000001164
4580249.92499999981374
