0.15000000000000
0.00000000000000
0.00000000000000
-0.15000000000000
357750.07500000001164
4580999.92499999981374
