0.15000000000000
0.00000000000000
0.00000000000000
-0.15000000000000
326250.07500000001164
4599749.92499999981374
