0.15000000000000
0.00000000000000
0.00000000000000
-0.15000000000000
756000.07499999995343
4551749.92499999981374
