0.15000000000000
0.00000000000000
0.00000000000000
-0.15000000000000
739500.07499999995343
4554749.92499999981374
